BEGIN:VCALENDAR
VERSION:2.0
PRODID:-//clubinone//NONSGML clubinone.de iCalcreator 2.22.1//
METHOD:PUBLISH
BEGIN:VEVENT
UID:20260422T101413-69e88355afa3e@maxlrain.cio.golf
DTSTAMP:20260422T101413
DESCRIPTION:Ostercamp 2023 (Jugend) - Saisonauftakt 11.-14.04.2023 jeweils 9.00-15.30:\nEinzel - 7\, 9-Löcher (vorgabewirksam)
DTSTART:20230411
DTEND:20230412
LOCATION:Golfclub Schloss Maxlrain e.V.
SUMMARY:Ostercamp 2023 (Jugend) - Saisonauftakt 11.-14.04.2023 jeweils 9.00-15.30
END:VEVENT
END:VCALENDAR