BEGIN:VCALENDAR
VERSION:2.0
PRODID:-//clubinone//NONSGML clubinone.de iCalcreator 2.22.1//
METHOD:PUBLISH
BEGIN:VEVENT
UID:20260420T103350-69e5e4ee6ef2a@maxlrain.cio.golf
DTSTAMP:20260420T103350
DESCRIPTION:[Abgesagt]Ostercamp (Jugend) 9-Loch Turnier:\nEinzel - 1\, 9-Löcher (vorgabewirksam)
DTSTART:20230411
DTEND:20230412
LOCATION:Golfclub Schloss Maxlrain e.V.
SUMMARY:[Abgesagt]Ostercamp (Jugend) 9-Loch Turnier
END:VEVENT
END:VCALENDAR