BEGIN:VCALENDAR
VERSION:2.0
PRODID:-//clubinone//NONSGML clubinone.de iCalcreator 2.22.1//
METHOD:PUBLISH
BEGIN:VEVENT
UID:20260420T135901-69e6150549249@maxlrain.cio.golf
DTSTAMP:20260420T135901
DESCRIPTION:Ostercamp (Jugend) 9-Loch Turnier:\nEinzel - 1\, 9-Löcher (vorgabewirksam)
DTSTART:20230413
DTEND:20230414
LOCATION:Golfclub Schloss Maxlrain e.V.
SUMMARY:Ostercamp (Jugend) 9-Loch Turnier
END:VEVENT
END:VCALENDAR